BEGIN:VCALENDAR
VERSION:2.0
PRODID:-//SPIRITS of St. Petersburg - ECPv6.15.20//NONSGML v1.0//EN
CALSCALE:GREGORIAN
METHOD:PUBLISH
X-ORIGINAL-URL:https://spiritsofstpete.com
X-WR-CALDESC:Events for SPIRITS of St. Petersburg
REFRESH-INTERVAL;VALUE=DURATION:PT1H
X-Robots-Tag:noindex
X-PUBLISHED-TTL:PT1H
BEGIN:VTIMEZONE
TZID:America/New_York
BEGIN:DAYLIGHT
TZOFFSETFROM:-0500
TZOFFSETTO:-0400
TZNAME:EDT
DTSTART:20230312T070000
END:DAYLIGHT
BEGIN:STANDARD
TZOFFSETFROM:-0400
TZOFFSETTO:-0500
TZNAME:EST
DTSTART:20231105T060000
END:STANDARD
BEGIN:DAYLIGHT
TZOFFSETFROM:-0500
TZOFFSETTO:-0400
TZNAME:EDT
DTSTART:20240310T070000
END:DAYLIGHT
BEGIN:STANDARD
TZOFFSETFROM:-0400
TZOFFSETTO:-0500
TZNAME:EST
DTSTART:20241103T060000
END:STANDARD
BEGIN:DAYLIGHT
TZOFFSETFROM:-0500
TZOFFSETTO:-0400
TZNAME:EDT
DTSTART:20250309T070000
END:DAYLIGHT
BEGIN:STANDARD
TZOFFSETFROM:-0400
TZOFFSETTO:-0500
TZNAME:EST
DTSTART:20251102T060000
END:STANDARD
BEGIN:DAYLIGHT
TZOFFSETFROM:-0500
TZOFFSETTO:-0400
TZNAME:EDT
DTSTART:20260308T070000
END:DAYLIGHT
BEGIN:STANDARD
TZOFFSETFROM:-0400
TZOFFSETTO:-0500
TZNAME:EST
DTSTART:20261101T060000
END:STANDARD
END:VTIMEZONE
BEGIN:VEVENT
DTSTART;TZID=America/New_York:20251207T183000
DTEND;TZID=America/New_York:20251207T203000
DTSTAMP:20260419T110902
CREATED:20251111T210507Z
LAST-MODIFIED:20251115T174703Z
UID:3514-1765132200-1765139400@spiritsofstpete.com
SUMMARY:Table Tipping
DESCRIPTION:Explore the Mysteries of Table Tipping  \nStep into the intriguing world of physical mediumship in this unique\, hands-on workshop led by SPIRITS sensitive Nancy and the SPIRITS team. During this immersive session\, you’ll be guided through the fascinating practice of table tipping—a form of mediumship that captivated audiences throughout the 18th and 19th centuries.  \nFew people today have witnessed or participated in table tipping\, a phenomenon in which messages from spirits are believed to move a table in response to questions. Participants will gather around a table\, gently resting their fingertips on its surface. Through spiritual connection\, the table may tilt\, rotate\, or move to indicate “yes” or “no” answers.  \nWhile waiting for your turn\, you’ll have the opportunity to “tune in” on your own or use a pendulum provided by the team to connect\, interpret responses\, and gain personal insight into the messages received.  \nAdding to the intrigue\, this workshop takes place in a building known to be haunted. Will you connect with the spirits of the location—or perhaps your own guiding spirits? There’s only one way to find out!  \nCome with an open mind and a sense of curiosity for an evening of connection\, learning\, and spiritual exploration.  \nIn honor of Pearl Harbor Day\, all ticket proceeds will be donated to VFW Post 39 to help fund\nbuilding updates. \nNote: Space is limited due to the intimate nature of this event. Reserve your spot today!
URL:https://spiritsofstpete.com/event/table-tipping-3/
LOCATION:VFW Post 39\, 2599 Central Ave\, St. Petersburg\, FL\, 33713
CATEGORIES:Courses,SPIRITS EVENT
ATTACH;FMTTYPE=image/png:https://spiritsofstpete.com/wp-content/uploads/2024/02/Table-Tipping-2.png
END:VEVENT
BEGIN:VEVENT
DTSTART;TZID=America/New_York:20250215T180000
DTEND;TZID=America/New_York:20250215T200000
DTSTAMP:20260419T110902
CREATED:20240205T072611Z
LAST-MODIFIED:20250115T031657Z
UID:2906-1739642400-1739649600@spiritsofstpete.com
SUMMARY:Table Tipping
DESCRIPTION:Experience Physical Mediumship with the Pendulum and Table Tipping\nSaturday\, February 15 | 6 – 8 p.m.\nArtLofts | 10 5th St. N.\, St. Petersburg\nDiscover the intriguing world of physical mediumship in this unique\, hands-on workshop. The\nevening begins with an exploration of the pendulum—a simple yet powerful tool that has long\nfascinated those interested in divination and intuitive practices.\nPart 1: Working with the Pendulum\nLearn about the history and practical uses of the pendulum. Is it guided by supernatural forces\, or\nis it an intuitive tool channeling unconscious responses? This question has sparked debate for\nyears. During this segment\, each participant will select a pendulum to use during class and take\nhome afterward. You are also welcome to bring your own pendulum if you prefer.\nPart 2: Table Tipping with Nancy\nNext\, join SPIRITS sensitive\, Nancy\, as she leads a session on table tipping. This fascinating\nform of physical mediumship\, popular in the late 18th and early 19th centuries\, offers a rare\nopportunity to experience psychic phenomena firsthand. Few people today have witnessed or\npracticed table tipping\, which involves receiving messages from spirits through the movement of\na table.\nParticipants will gather around a table\, lightly resting their fingertips on the surface. Through\nspiritual connection\, the table may rotate or tilt\, providing “yes” or “no” answers to specific\nquestions. While waiting for their turn\, attendees will use their pendulums to connect\, interpret\nresponses\, and gain insight into the messages being conveyed.\nCome with an open mind and a sense of curiosity for an evening of connection\, learning\, and\nspiritual exploration!\n$25 pp. Limited seats so sign up today! https://SpiritsofStPete.com/table-tipping
URL:https://spiritsofstpete.com/event/table-tipping/
LOCATION:Art Lofts – Studio 208\, 10 5th Street N\, St. Petersburg\, United States
CATEGORIES:Courses
ATTACH;FMTTYPE=image/png:https://spiritsofstpete.com/wp-content/uploads/2024/02/Table-Tipping-2.png
END:VEVENT
BEGIN:VEVENT
DTSTART;TZID=America/New_York:20250215T180000
DTEND;TZID=America/New_York:20250215T180000
DTSTAMP:20260419T110902
CREATED:20240829T193157Z
LAST-MODIFIED:20250115T023842Z
UID:3142-1739642400-1739642400@spiritsofstpete.com
SUMMARY:Table Tipping
DESCRIPTION:Experience Physical Mediumship with the Pendulum and Table Tipping\nSaturday\, February 15 | 6 – 8 p.m.\nArtLofts | 10 5th St. N.\, St. Petersburg\nDiscover the intriguing world of physical mediumship in this unique\, hands-on workshop. The\nevening begins with an exploration of the pendulum—a simple yet powerful tool that has long\nfascinated those interested in divination and intuitive practices.\nPart 1: Working with the Pendulum\nLearn about the history and practical uses of the pendulum. Is it guided by supernatural forces\, or\nis it an intuitive tool channeling unconscious responses? This question has sparked debate for\nyears. During this segment\, each participant will select a pendulum to use during class and take\nhome afterward. You are also welcome to bring your own pendulum if you prefer.\nPart 2: Table Tipping with Nancy\nNext\, join SPIRITS sensitive\, Nancy\, as she leads a session on table tipping. This fascinating\nform of physical mediumship\, popular in the late 18th and early 19th centuries\, offers a rare\nopportunity to experience psychic phenomena firsthand. Few people today have witnessed or\npracticed table tipping\, which involves receiving messages from spirits through the movement of\na table.\nParticipants will gather around a table\, lightly resting their fingertips on the surface. Through\nspiritual connection\, the table may rotate or tilt\, providing “yes” or “no” answers to specific\nquestions. While waiting for their turn\, attendees will use their pendulums to connect\, interpret\nresponses\, and gain insight into the messages being conveyed.\nCome with an open mind and a sense of curiosity for an evening of connection\, learning\, and\nspiritual exploration!\n$25 pp. Limited seats so sign up today! https://SpiritsofStPete.com/table-tipping
URL:https://spiritsofstpete.com/event/table-tipping-2/
LOCATION:Art Lofts – Studio 208\, 10 5th Street N\, St. Petersburg\, United States
CATEGORIES:Courses
ATTACH;FMTTYPE=image/png:https://spiritsofstpete.com/wp-content/uploads/2024/02/Table-Tipping-2.png
END:VEVENT
BEGIN:VEVENT
DTSTART;TZID=America/New_York:20240821T150000
DTEND;TZID=America/New_York:20240821T163000
DTSTAMP:20260419T110902
CREATED:20240205T073154Z
LAST-MODIFIED:20240205T085936Z
UID:2909-1724252400-1724257800@spiritsofstpete.com
SUMMARY:History of Paranormal Investigation - ZOOM
DESCRIPTION:This online class will feature Dr. Brandy Stark. From the Fox Sisters to Modern Day Ghost Hunting TV Show
URL:https://spiritsofstpete.com/event/history-of-paranormal-investigation-zoom/
LOCATION:Zoom
CATEGORIES:Courses
ATTACH;FMTTYPE=image/png:https://spiritsofstpete.com/wp-content/uploads/2024/02/Pick-Two-Classes-4.png
END:VEVENT
BEGIN:VEVENT
DTSTART;TZID=America/New_York:20240412T150000
DTEND;TZID=America/New_York:20240412T170000
DTSTAMP:20260419T110902
CREATED:20240205T070742Z
LAST-MODIFIED:20240205T075146Z
UID:2896-1712934000-1712941200@spiritsofstpete.com
SUMMARY:Paranormal 201
DESCRIPTION:Participate in an investigation practicing what you have learned in Paranormal 101 with the SPIRITS of St. Petersburg.
URL:https://spiritsofstpete.com/event/paranormal-201/
CATEGORIES:Courses
ATTACH;FMTTYPE=image/jpeg:https://spiritsofstpete.com/wp-content/uploads/2024/02/class-1.jpg
END:VEVENT
BEGIN:VEVENT
DTSTART;TZID=America/New_York:20240322T150000
DTEND;TZID=America/New_York:20240322T170000
DTSTAMP:20260419T110902
CREATED:20240205T005128Z
LAST-MODIFIED:20240208T085410Z
UID:2867-1711119600-1711126800@spiritsofstpete.com
SUMMARY:Paranormal 101
DESCRIPTION:Explore Paranormal Investigation Equipment \nUnderstand “Life on the Other Side” \nOverview of how to conduct and investigation \n\n\n\n\n\n\n\n\n\n\n	\n				\n	\n	Purchase Tickets\n	\n				\n	\n	\n\n	\n	\n\n	\n	\n\n\n		\n			Checkout Error!\n	\n	\n		Something went wrong!	\n\n		\n	\n	Oops\, no tickets!\n	\n	Please browse events and add tickets to check out.
URL:https://spiritsofstpete.com/event/paranormal-101/
LOCATION:Art Lofts – Studio 208\, 10 5th Street N\, St. Petersburg\, United States
CATEGORIES:Courses
END:VEVENT
END:VCALENDAR